BEGIN:VCALENDAR
VERSION:2.0
PRODID:icalendar-ruby
CALSCALE:GREGORIAN
METHOD:PUBLISH
BEGIN:VEVENT
DTSTAMP:20260423T211755Z
UID:996-4913642@stjohnthedivine.bc.ca
DTSTART:20261022T010000Z
DTEND:20261022T023000Z
CLASS:PUBLIC
CREATED:20260423T121238
DESCRIPTION:An open studio space ideal for teens looking for a kind and inc
 lusive space to be creative!\nArtists and therapeutic arts practitioners a
 re around for ideas and encouragement.\nLocated in the the upstairs studio
  at St. John the Divine (1611 Quadra St.)\nAll materials are provided at n
 o cost\nWednesdays  6:00-7:30\nongoing registration - email for details\n
 familyministry@stjohnthedivine.bc.ca
LAST-MODIFIED:20260423T121238
LOCATION:upstairs studio
SUMMARY:Youth Art Space  
URL;VALUE=URI:https://www.stjohnthedivine.bc.ca/events/youth-art-space/2026
 -10-21
ATTACH;FILENAME=youth art space.png;FMTTYPE=image/png:https://dq5pwpg1q8ru0
 .cloudfront.net/2025/11/05/18/52/34/da7a0afb-4c6f-490e-8186-cb5f47d39d31/y
 outh%20art%20space.png
END:VEVENT
END:VCALENDAR
