BEGIN:VCALENDAR
VERSION:2.0
PRODID:icalendar-ruby
CALSCALE:GREGORIAN
METHOD:PUBLISH
BEGIN:VEVENT
DTSTAMP:20260422T135548Z
UID:1060-4772047@stjohnthedivine.bc.ca
DTSTART:20260503T210000Z
DTEND:20260503T230000Z
CLASS:PUBLIC
CREATED:20260415T110713
DESCRIPTION:Forest Church is for everyone!\nWe meet in various locations to
  encounter God in creation.\n \nThis time\, we are gathering together at 
 Beacon Hill Park\nWe will visit the goats (and other petting zoo kin)\nWe 
 will create some art (materials and encouragement provided)\n \nSunday Ma
 y 3 from 2:00-4:00\nMay 3  at  2:00\nMeet in the parking lot near the pe
 tting zoo\n(bring a water bottle\, pocket snack\, and a blanket or chair f
 or sitting)\n 
LAST-MODIFIED:20260415T110713
LOCATION:Beaon Hill Park
SUMMARY:Forest Church 
URL;VALUE=URI:https://www.stjohnthedivine.bc.ca/events/forest-church--1060/
 2026-05-03
ATTACH;FILENAME=IMG_4491.jpeg;FMTTYPE=image/jpeg:https://dq5pwpg1q8ru0.clou
 dfront.net/2026/04/07/00/12/13/322e5d4c-fb23-48e3-93c0-194816b97c2c/IMG_44
 91.jpeg
END:VEVENT
END:VCALENDAR
