BEGIN:VCALENDAR
VERSION:2.0
PRODID:icalendar-ruby
CALSCALE:GREGORIAN
METHOD:PUBLISH
BEGIN:VEVENT
DTSTAMP:20260423T101413Z
UID:1063-4896307@stjohnthedivine.bc.ca
DTSTART:20260425T170000Z
DTEND:20260425T183000Z
CLASS:PUBLIC
CREATED:20260422T144011
DESCRIPTION:Everyone is welcome!\nBring whatever crafty or arty project you
  are working on.\nJoin in a relaxed social time with friends (new &amp\; o
 ld)\nNo need to register.\nSee you there!\nApril 25\, May 30\, June 27\n10
 :00 - 11:30\n 
LAST-MODIFIED:20260422T144011
LOCATION:the lounge at St. John's
SUMMARY:Craft Mornings
URL;VALUE=URI:https://www.stjohnthedivine.bc.ca/events/craft-mornings/2026-
 04-25
END:VEVENT
END:VCALENDAR
